BEGIN:VCALENDAR
VERSION:2.0
PRODID:-//Copper Mill GC - ECPv6.15.20//NONSGML v1.0//EN
CALSCALE:GREGORIAN
METHOD:PUBLISH
X-ORIGINAL-URL:https://coppermillgc.com
X-WR-CALDESC:Events for Copper Mill GC
REFRESH-INTERVAL;VALUE=DURATION:PT1H
X-Robots-Tag:noindex
X-PUBLISHED-TTL:PT1H
BEGIN:VTIMEZONE
TZID:UTC
BEGIN:STANDARD
TZOFFSETFROM:+0000
TZOFFSETTO:+0000
TZNAME:UTC
DTSTART:20240101T000000
END:STANDARD
END:VTIMEZONE
BEGIN:VEVENT
DTSTART;TZID=UTC:20250613T183000
DTEND;TZID=UTC:20250613T200000
DTSTAMP:20260421T163709
CREATED:20250524T034702Z
LAST-MODIFIED:20250603T054244Z
UID:56125-1749839400-1749844800@coppermillgc.com
SUMMARY:Bingo Night
DESCRIPTION:
URL:https://coppermillgc.com/event/bingo-night-10/
LOCATION:Copper Mill Golf Club\, 2100 Copper Mill Blvd\, Zachary\, 70791\, United States
END:VEVENT
END:VCALENDAR