BEGIN:VCALENDAR
VERSION:2.0
PRODID:-//Copper Mill GC - ECPv6.15.20//NONSGML v1.0//EN
CALSCALE:GREGORIAN
METHOD:PUBLISH
X-WR-CALNAME:Copper Mill GC
X-ORIGINAL-URL:https://coppermillgc.com
X-WR-CALDESC:Events for Copper Mill GC
REFRESH-INTERVAL;VALUE=DURATION:PT1H
X-Robots-Tag:noindex
X-PUBLISHED-TTL:PT1H
BEGIN:VTIMEZONE
TZID:UTC
BEGIN:STANDARD
TZOFFSETFROM:+0000
TZOFFSETTO:+0000
TZNAME:UTC
DTSTART:20240101T000000
END:STANDARD
END:VTIMEZONE
BEGIN:VEVENT
DTSTART;TZID=UTC:20250716T070000
DTEND;TZID=UTC:20250718T180000
DTSTAMP:20260421T134324
CREATED:20250628T162409Z
LAST-MODIFIED:20250628T162409Z
UID:56147-1752649200-1752861600@coppermillgc.com
SUMMARY:Copper Card Shootout - Club Event
DESCRIPTION:
URL:https://coppermillgc.com/event/copper-card-shootout-club-event/
LOCATION:Copper Mill Golf Club\, 2100 Copper Mill Blvd\, Zachary\, 70791\, United States
ORGANIZER;CN="Copper Mill Golf Club":MAILTO:pschelah@coppermillgc.com
END:VEVENT
END:VCALENDAR