BEGIN:VCALENDAR
VERSION:2.0
PRODID:-//Copper Mill GC - ECPv6.15.20//NONSGML v1.0//EN
CALSCALE:GREGORIAN
METHOD:PUBLISH
X-WR-CALNAME:Copper Mill GC
X-ORIGINAL-URL:https://coppermillgc.com
X-WR-CALDESC:Events for Copper Mill GC
REFRESH-INTERVAL;VALUE=DURATION:PT1H
X-Robots-Tag:noindex
X-PUBLISHED-TTL:PT1H
BEGIN:VTIMEZONE
TZID:UTC
BEGIN:STANDARD
TZOFFSETFROM:+0000
TZOFFSETTO:+0000
TZNAME:UTC
DTSTART:20240101T000000
END:STANDARD
END:VTIMEZONE
BEGIN:VEVENT
DTSTART;VALUE=DATE:20250805
DTEND;VALUE=DATE:20250806
DTSTAMP:20260419T204037
CREATED:20250731T061720Z
LAST-MODIFIED:20250731T061720Z
UID:56164-1754352000-1754438399@coppermillgc.com
SUMMARY:Senior Special
DESCRIPTION:
URL:https://coppermillgc.com/event/senior-special/
ORGANIZER;CN="Copper Mill Golf Club":MAILTO:pschelah@coppermillgc.com
END:VEVENT
END:VCALENDAR