BEGIN:VCALENDAR
VERSION:2.0
PRODID:-//Copper Mill GC - ECPv6.15.20//NONSGML v1.0//EN
CALSCALE:GREGORIAN
METHOD:PUBLISH
X-ORIGINAL-URL:https://coppermillgc.com
X-WR-CALDESC:Events for Copper Mill GC
REFRESH-INTERVAL;VALUE=DURATION:PT1H
X-Robots-Tag:noindex
X-PUBLISHED-TTL:PT1H
BEGIN:VTIMEZONE
TZID:UTC
BEGIN:STANDARD
TZOFFSETFROM:+0000
TZOFFSETTO:+0000
TZNAME:UTC
DTSTART:20240101T000000
END:STANDARD
END:VTIMEZONE
BEGIN:VEVENT
DTSTART;TZID=UTC:20250502T080000
DTEND;TZID=UTC:20250502T130000
DTSTAMP:20260424T104915
CREATED:20250401T032643Z
LAST-MODIFIED:20250401T032643Z
UID:56106-1746172800-1746190800@coppermillgc.com
SUMMARY:Golf Outing - Zachary High Sports Broadcasting
DESCRIPTION:Private Event \n8am Shotgun – 72 Players
URL:https://coppermillgc.com/event/golf-outing-zachary-high-sports-broadcasting/
LOCATION:Copper Mill Golf Club\, 2100 Copper Mill Blvd\, Zachary\, 70791\, United States
END:VEVENT
BEGIN:VEVENT
DTSTART;TZID=UTC:20250510T080000
DTEND;TZID=UTC:20250510T130000
DTSTAMP:20260424T104915
CREATED:20250401T033137Z
LAST-MODIFIED:20250401T033137Z
UID:56108-1746864000-1746882000@coppermillgc.com
SUMMARY:Heaven & Hell Tournament - Club Event
DESCRIPTION:
URL:https://coppermillgc.com/event/heaven-hell-tournament-club-event/
LOCATION:Copper Mill Golf Club\, 2100 Copper Mill Blvd\, Zachary\, 70791\, United States
ORGANIZER;CN="Copper Mill Golf Club":MAILTO:pschelah@coppermillgc.com
END:VEVENT
BEGIN:VEVENT
DTSTART;TZID=UTC:20250516T080000
DTEND;TZID=UTC:20250516T130000
DTSTAMP:20260424T104915
CREATED:20250401T032815Z
LAST-MODIFIED:20250401T032815Z
UID:56107-1747382400-1747400400@coppermillgc.com
SUMMARY:Golf Outing - BR Airport
DESCRIPTION:Private Event \n8am Shotgun – 60 Players
URL:https://coppermillgc.com/event/golf-outing-br-airport/
LOCATION:Copper Mill Golf Club\, 2100 Copper Mill Blvd\, Zachary\, 70791\, United States
END:VEVENT
BEGIN:VEVENT
DTSTART;TZID=UTC:20250516T180000
DTEND;TZID=UTC:20250516T200000
DTSTAMP:20260424T104915
CREATED:20250514T045117Z
LAST-MODIFIED:20250514T045117Z
UID:56113-1747418400-1747425600@coppermillgc.com
SUMMARY:Cornhole Tournament
DESCRIPTION:
URL:https://coppermillgc.com/event/cornhole-tournament/
LOCATION:Copper Mill Golf Club\, 2100 Copper Mill Blvd\, Zachary\, 70791\, United States
END:VEVENT
BEGIN:VEVENT
DTSTART;TZID=UTC:20250517T080000
DTEND;TZID=UTC:20250517T130000
DTSTAMP:20260424T104915
CREATED:20250401T033241Z
LAST-MODIFIED:20250401T033241Z
UID:56110-1747468800-1747486800@coppermillgc.com
SUMMARY:Golf Outing - VFW 4224
DESCRIPTION:Private Event \n8am Shotgun – 100 Players
URL:https://coppermillgc.com/event/golf-outing-vfw-4224/
LOCATION:Copper Mill Golf Club\, 2100 Copper Mill Blvd\, Zachary\, 70791\, United States
END:VEVENT
BEGIN:VEVENT
DTSTART;TZID=UTC:20250530T183000
DTEND;TZID=UTC:20250530T200000
DTSTAMP:20260424T104915
CREATED:20250514T045502Z
LAST-MODIFIED:20250514T045502Z
UID:56115-1748629800-1748635200@coppermillgc.com
SUMMARY:Bingo Night
DESCRIPTION:
URL:https://coppermillgc.com/event/bingo-night-9/
LOCATION:Copper Mill Golf Club\, 2100 Copper Mill Blvd\, Zachary\, 70791\, United States
END:VEVENT
END:VCALENDAR