BEGIN:VCALENDAR
VERSION:2.0
PRODID:-//Copper Mill GC - ECPv6.15.20//NONSGML v1.0//EN
CALSCALE:GREGORIAN
METHOD:PUBLISH
X-ORIGINAL-URL:https://coppermillgc.com
X-WR-CALDESC:Events for Copper Mill GC
REFRESH-INTERVAL;VALUE=DURATION:PT1H
X-Robots-Tag:noindex
X-PUBLISHED-TTL:PT1H
BEGIN:VTIMEZONE
TZID:UTC
BEGIN:STANDARD
TZOFFSETFROM:+0000
TZOFFSETTO:+0000
TZNAME:UTC
DTSTART:20240101T000000
END:STANDARD
END:VTIMEZONE
BEGIN:VEVENT
DTSTART;TZID=UTC:20250613T183000
DTEND;TZID=UTC:20250613T200000
DTSTAMP:20260425T130002
CREATED:20250524T034702Z
LAST-MODIFIED:20250603T054244Z
UID:56125-1749839400-1749844800@coppermillgc.com
SUMMARY:Bingo Night
DESCRIPTION:
URL:https://coppermillgc.com/event/bingo-night-10/
LOCATION:Copper Mill Golf Club\, 2100 Copper Mill Blvd\, Zachary\, 70791\, United States
END:VEVENT
BEGIN:VEVENT
DTSTART;TZID=UTC:20250620T180000
DTEND;TZID=UTC:20250620T220000
DTSTAMP:20260425T130002
CREATED:20250524T035744Z
LAST-MODIFIED:20250524T035744Z
UID:56133-1750442400-1750456800@coppermillgc.com
SUMMARY:Couples Tournament Social with Live Music
DESCRIPTION:
URL:https://coppermillgc.com/event/couples-tournament-social-with-live-music/
LOCATION:Copper Mill Golf Club\, 2100 Copper Mill Blvd\, Zachary\, 70791\, United States
ORGANIZER;CN="Copper Mill Golf Club":MAILTO:pschelah@coppermillgc.com
END:VEVENT
BEGIN:VEVENT
DTSTART;TZID=UTC:20250621T080000
DTEND;TZID=UTC:20250621T130000
DTSTAMP:20260425T130002
CREATED:20250524T035455Z
LAST-MODIFIED:20250524T035455Z
UID:56130-1750492800-1750510800@coppermillgc.com
SUMMARY:Couples Tournament - Club Event
DESCRIPTION:
URL:https://coppermillgc.com/event/couples-tournament-club-event/
LOCATION:Copper Mill Golf Club\, 2100 Copper Mill Blvd\, Zachary\, 70791\, United States
ORGANIZER;CN="Copper Mill Golf Club":MAILTO:pschelah@coppermillgc.com
END:VEVENT
BEGIN:VEVENT
DTSTART;TZID=UTC:20250622T080000
DTEND;TZID=UTC:20250622T130000
DTSTAMP:20260425T130002
CREATED:20250524T035604Z
LAST-MODIFIED:20250524T035604Z
UID:56132-1750579200-1750597200@coppermillgc.com
SUMMARY:Couples Tournament - Club Event
DESCRIPTION:
URL:https://coppermillgc.com/event/couples-tournament-club-event-2/
LOCATION:Copper Mill Golf Club\, 2100 Copper Mill Blvd\, Zachary\, 70791\, United States
ORGANIZER;CN="Copper Mill Golf Club":MAILTO:pschelah@coppermillgc.com
END:VEVENT
BEGIN:VEVENT
DTSTART;TZID=UTC:20250628T080000
DTEND;TZID=UTC:20250628T130000
DTSTAMP:20260425T130002
CREATED:20250519T041503Z
LAST-MODIFIED:20250524T033730Z
UID:56119-1751097600-1751115600@coppermillgc.com
SUMMARY:3 Club Tournament - Club Event
DESCRIPTION:
URL:https://coppermillgc.com/event/3-club-tournament-club-event/
LOCATION:Copper Mill Golf Club\, 2100 Copper Mill Blvd\, Zachary\, 70791\, United States
ORGANIZER;CN="Copper Mill Golf Club":MAILTO:pschelah@coppermillgc.com
END:VEVENT
END:VCALENDAR