BEGIN:VCALENDAR
VERSION:2.0
PRODID:-//Copper Mill GC - ECPv6.15.20//NONSGML v1.0//EN
CALSCALE:GREGORIAN
METHOD:PUBLISH
X-ORIGINAL-URL:https://coppermillgc.com
X-WR-CALDESC:Events for Copper Mill GC
REFRESH-INTERVAL;VALUE=DURATION:PT1H
X-Robots-Tag:noindex
X-PUBLISHED-TTL:PT1H
BEGIN:VTIMEZONE
TZID:UTC
BEGIN:STANDARD
TZOFFSETFROM:+0000
TZOFFSETTO:+0000
TZNAME:UTC
DTSTART:20250101T000000
END:STANDARD
END:VTIMEZONE
BEGIN:VEVENT
DTSTART;TZID=UTC:20260508T083000
DTEND;TZID=UTC:20260508T143000
DTSTAMP:20260420T081645
CREATED:20260329T203539Z
LAST-MODIFIED:20260329T203539Z
UID:56246-1778229000-1778250600@coppermillgc.com
SUMMARY:Golf Outing - Knights of Columbus 2807
DESCRIPTION:8:30am Shotgun – 130 Players \n 
URL:https://coppermillgc.com/event/golf-outing-knights-of-columbus-2807/
LOCATION:Copper Mill Golf Club\, 2100 Copper Mill Blvd\, Zachary\, 70791\, United States
END:VEVENT
BEGIN:VEVENT
DTSTART;TZID=UTC:20260515T080000
DTEND;TZID=UTC:20260515T130000
DTSTAMP:20260420T081645
CREATED:20260329T203825Z
LAST-MODIFIED:20260329T203825Z
UID:56247-1778832000-1778850000@coppermillgc.com
SUMMARY:Golf Outing - Baton Rouge Airport
DESCRIPTION:8am Shotgun – 60 Players \n 
URL:https://coppermillgc.com/event/golf-outing-baton-rouge-airport/
LOCATION:Copper Mill Golf Club\, 2100 Copper Mill Blvd\, Zachary\, 70791\, United States
END:VEVENT
BEGIN:VEVENT
DTSTART;TZID=UTC:20260516T080000
DTEND;TZID=UTC:20260516T130000
DTSTAMP:20260420T081645
CREATED:20260329T195156Z
LAST-MODIFIED:20260329T195156Z
UID:56229-1778918400-1778936400@coppermillgc.com
SUMMARY:Heaven & Hell - Club Event
DESCRIPTION:
URL:https://coppermillgc.com/event/heaven-hell-club-event/
LOCATION:Copper Mill Golf Club\, 2100 Copper Mill Blvd\, Zachary\, 70791\, United States
ORGANIZER;CN="Copper Mill Golf Club":MAILTO:pschelah@coppermillgc.com
END:VEVENT
END:VCALENDAR